Workbook
Name Date: February[Date of Invoice:]
Name Date: February[Date of Invoice:]
Name Date: February[Date of Invoice:]
Name Date: February[Date of Invoice:]
Name Date: February[Date of Invoice:]
Name Date: February[Date of Invoice:]
Name Date: February[Date of Invoice:]
Name Date: February[Date of Invoice:]
Name Date: February[Date of Invoice:]
Name Date: February[Date of Invoice:]
Name Date: February[Date of Invoice:]
Name Date: February[Date of Invoice:]
Name Date: January[Date of Invoice:]
Name PaidDate: February[Paid Date:]
Name PaidDate: February[Paid Date:]
Name PaidDate: February[Paid Date:]
Name PaidDate: February[Paid Date:]
Name PaidDate: February[Paid Date:]
Name PaidDate: February[Paid Date:]
Name PaidDate: February[Paid Date:]
Name PaidDate: February[Paid Date:]
Name PaidDate: February[Paid Date:]
Name PaidDate: February[Paid Date:]
Name PaidDate: February[Paid Date:]
Name PaidDate: February[Paid Date:]
Name PaidDate: January[Paid Date:]
Name TransNo: February[Trans No]
Name TransNo: February[Trans No]
Name TransNo: February[Trans No]
Name TransNo: February[Trans No]
Name TransNo: February[Trans No]
Name TransNo: February[Trans No]
Name TransNo: February[Trans No]
Name TransNo: February[Trans No]
Name TransNo: February[Trans No]
Name TransNo: February[Trans No]
Name TransNo: February[Trans No]
Name TransNo: February[Trans No]
Name TransNo: January[Trans No]
Name VoucherNo: #REF!

Sheet 1a_Payment_Schedule
B2: Activity Planing Schedule: | C2: 45658
B4: 1. Human Resources
C5: 0
B6: 2. Travel and subsistence (for meetings, conferences, events, etc.)
B8: 3. Consumables and supplies
C9: 0
B10: 4. Rental (rental of venues linked to the performance of the action)
B12: 5. Other costs, services (dissemination, translation, reproduction, printing, etc.)
B14: 6. Other
C15: 0
B16: TOTAL | C16: =C15+C13+C11+C9+C7+C5 -> 0

Sheet 2a_Request for payment
A1: Covering Note & Request for payment
A3: The Recipient Name
A4: The payment should be made to the following bank account:
A5: Bank Name: | C5: NLB BANK
A7: Account Number: | C7: xxxx-xxxx-xxxx-xxxx
A9: LOT: | C9: LOT 1
A11: Project name:
A13: Subcontract number:
A15: Contract duration
A17: Total contract value per term / Euro: | C17: ='3a. BudgetvsExpenditures'!F47 -> 0
A19: Total per Expenditure Category: | C19: ='3a. BudgetvsExpenditures'!T47 -> 0
A21: Request advance for the next Period | C21: ='1a_Payment_Schedule'!C16 -> 0
A23: Remaining Balance after advance Request: | C23: {=('1.Jan'!H6:I6+'2.Feb'!H6:I6+'3.March'!H6:I6+'4.Apr'!H6:I6+'5.May'!H6:I6+'6.June'!H6:I6+'7.Jul'!H6:I6+'8.Aug'!H6:I6+'9.Sep'!H6:I6+'10.Oct'!H6:I6+'11.Nov'!H6:I6+'12.Dec'!H6:I6)+C21-C19} -> 0 | D23: 0
A25: Declaration on honor I hereby certify that the information contained in this payment request is full, reliable and true, and is substantiated by adequate supporting documents that can be checked. I hereby certify that the costs declared have been incurred in accordance with this Contract and that they can be considered as eligible in accordance with the Contract.
A26: The expenditures to be financed from the EU grant have not been financed from other subsidies.
A28: The following information is attached (please tick):
A29: Totals per cost category
A30: breakdown of expenditures per cost category | C30: ATRC Program Use Only
A31: proof by the receipts and payments
A32: other | C32: Scanned Hardcopy
C34: Submissions: Supp. Docs Narrative Report
A35: Project Manager: Name and Surname Signature: ___________________________ Date: ___________________________ | C35: Checked by: __________________________ Verified by: ___________________________ Approved by: __________________________
A38: Financial Manager: Name and Surname Signature: ___________________________ Date: ___________________________ | C38: Comments:

Sheet 3a. BudgetvsExpenditures
B2: Partner: | C2: ='2a_Request for payment'!C3 -> 0
B3: Grant No: | C3: ='2a_Request for payment'!C13 -> 0
B4: Period: | C4: ='2a_Request for payment'!C15 -> 0
B6: Budget for the Action
B7: Costs | C7: Unit description (month, day, travel, etc.) | D7: # of units | E7: Unit value (in EUR) | F7: Total Budget (in EUR) | H7: January | I7: February | J7: March | K7: April | L7: May | M7: June | N7: July | O7: August | P7: September | Q7: October | R7: November | S7: December | T7: Total Costs | U7: Difference | V7: Variance
A8: 1. Human Resources
A9: 1.1 | B9: Test | F9: =D9*E9 -> 0 | H9: =SUMIF(January[Budget Line:],'3a. BudgetvsExpenditures'!B9,January[Amount:]) -> 0 | I9: =SUMIF(February[Budget Line:],'3a. BudgetvsExpenditures'!B9,February[Amount:]) -> 0 | J9: =SUMIF(March[Budget Line:],'3a. BudgetvsExpenditures'!B9,March[Amount:]) -> 0 | K9: =SUMIF(April[Budget Line:],'3a. BudgetvsExpenditures'!B9,April[Amount:]) -> 0 | L9: =SUMIF(May[Budget Line:],'3a. BudgetvsExpenditures'!B9,May[Amount:]) -> 0 | M9: =SUMIF(June[Budget Line:],'3a. BudgetvsExpenditures'!B9,June[Amount:]) -> 0 | N9: =SUMIF(July[Budget Line:],'3a. BudgetvsExpenditures'!B9,July[Amount:]) -> 0 | O9: =SUMIF(August[Budget Line:],'3a. BudgetvsExpenditures'!B9,August[Amount:]) -> 0 | P9: =SUMIF(September[Budget Line:],'3a. BudgetvsExpenditures'!B9,September[Amount:]) -> 0 | Q9: =SUMIF(October[Budget Line:],'3a. BudgetvsExpenditures'!B9,October[Amount:]) -> 0 | R9: =SUMIF(November[Budget Line:],'3a. BudgetvsExpenditures'!B9,November[Amount:]) -> 0 | S9: =SUMIF(December[Budget Line:],'3a. BudgetvsExpenditures'!B9,December[Amount:]) -> 0 | T9: =SUM(H9:S9) -> 0 | U9: =F9-T9 -> 0 | V9: =IFERROR(T9/F9,0) -> 0
F10: =D10*E10 -> 0 | H10: =SUMIF(January[Budget Line:],'3a. BudgetvsExpenditures'!B10,January[Amount:]) -> 0 | I10: =SUMIF(February[Budget Line:],'3a. BudgetvsExpenditures'!B10,February[Amount:]) -> 0 | J10: =SUMIF(March[Budget Line:],'3a. BudgetvsExpenditures'!B10,March[Amount:]) -> 0 | K10: =SUMIF(April[Budget Line:],'3a. BudgetvsExpenditures'!B10,April[Amount:]) -> 0 | L10: =SUMIF(May[Budget Line:],'3a. BudgetvsExpenditures'!B10,May[Amount:]) -> 0 | M10: =SUMIF(June[Budget Line:],'3a. BudgetvsExpenditures'!B10,June[Amount:]) -> 0 | N10: =SUMIF(July[Budget Line:],'3a. BudgetvsExpenditures'!B10,July[Amount:]) -> 0 | O10: =SUMIF(August[Budget Line:],'3a. BudgetvsExpenditures'!B10,August[Amount:]) -> 0 | P10: =SUMIF(September[Budget Line:],'3a. BudgetvsExpenditures'!B10,September[Amount:]) -> 0 | Q10: =SUMIF(October[Budget Line:],'3a. BudgetvsExpenditures'!B10,October[Amount:]) -> 0 | R10: =SUMIF(November[Budget Line:],'3a. BudgetvsExpenditures'!B10,November[Amount:]) -> 0 | S10: =SUMIF(December[Budget Line:],'3a. BudgetvsExpenditures'!B10,December[Amount:]) -> 0 | T10: =SUM(H10:S10) -> 0 | U10: =F10-T10 -> 0 | V10: =IFERROR(T10/F10,0) -> 0
F11: =D11*E11 -> 0 | H11: =SUMIF(January[Budget Line:],'3a. BudgetvsExpenditures'!B11,January[Amount:]) -> 0 | I11: =SUMIF(February[Budget Line:],'3a. BudgetvsExpenditures'!B11,February[Amount:]) -> 0 | J11: =SUMIF(March[Budget Line:],'3a. BudgetvsExpenditures'!B11,March[Amount:]) -> 0 | K11: =SUMIF(April[Budget Line:],'3a. BudgetvsExpenditures'!B11,April[Amount:]) -> 0 | L11: =SUMIF(May[Budget Line:],'3a. BudgetvsExpenditures'!B11,May[Amount:]) -> 0 | M11: =SUMIF(June[Budget Line:],'3a. BudgetvsExpenditures'!B11,June[Amount:]) -> 0 | N11: =SUMIF(July[Budget Line:],'3a. BudgetvsExpenditures'!B11,July[Amount:]) -> 0 | O11: =SUMIF(August[Budget Line:],'3a. BudgetvsExpenditures'!B11,August[Amount:]) -> 0 | P11: =SUMIF(September[Budget Line:],'3a. BudgetvsExpenditures'!B11,September[Amount:]) -> 0 | Q11: =SUMIF(October[Budget Line:],'3a. BudgetvsExpenditures'!B11,October[Amount:]) -> 0 | R11: =SUMIF(November[Budget Line:],'3a. BudgetvsExpenditures'!B11,November[Amount:]) -> 0 | S11: =SUMIF(December[Budget Line:],'3a. BudgetvsExpenditures'!B11,December[Amount:]) -> 0 | T11: =SUM(H11:S11) -> 0 | U11: =F11-T11 -> 0 | V11: =IFERROR(T11/F11,0) -> 0
F12: =D12*E12 -> 0 | H12: =SUMIF(January[Budget Line:],'3a. BudgetvsExpenditures'!B12,January[Amount:]) -> 0 | I12: =SUMIF(February[Budget Line:],'3a. BudgetvsExpenditures'!B12,February[Amount:]) -> 0 | J12: =SUMIF(March[Budget Line:],'3a. BudgetvsExpenditures'!B12,March[Amount:]) -> 0 | K12: =SUMIF(April[Budget Line:],'3a. BudgetvsExpenditures'!B12,April[Amount:]) -> 0 | L12: =SUMIF(May[Budget Line:],'3a. BudgetvsExpenditures'!B12,May[Amount:]) -> 0 | M12: =SUMIF(June[Budget Line:],'3a. BudgetvsExpenditures'!B12,June[Amount:]) -> 0 | N12: =SUMIF(July[Budget Line:],'3a. BudgetvsExpenditures'!B12,July[Amount:]) -> 0 | O12: =SUMIF(August[Budget Line:],'3a. BudgetvsExpenditures'!B12,August[Amount:]) -> 0 | P12: =SUMIF(September[Budget Line:],'3a. BudgetvsExpenditures'!B12,September[Amount:]) -> 0 | Q12: =SUMIF(October[Budget Line:],'3a. BudgetvsExpenditures'!B12,October[Amount:]) -> 0 | R12: =SUMIF(November[Budget Line:],'3a. BudgetvsExpenditures'!B12,November[Amount:]) -> 0 | S12: =SUMIF(December[Budget Line:],'3a. BudgetvsExpenditures'!B12,December[Amount:]) -> 0 | T12: =SUM(H12:S12) -> 0 | U12: =F12-T12 -> 0 | V12: =IFERROR(T12/F12,0) -> 0
A13: Subtotal Human Resources | F13: =SUM(F9:F12) -> 0 | H13: =SUM(H9:H12) -> 0 | I13: =SUM(I9:I12) -> 0 | J13: =SUM(J9:J12) -> 0 | K13: =SUM(K9:K12) -> 0 | L13: =SUM(L9:L12) -> 0 | M13: =SUM(M9:M12) -> 0 | N13: =SUM(N9:N12) -> 0 | O13: =SUM(O9:O12) -> 0 | ... T13: =SUM(T9:T12) -> 0 | U13: =F13-T13 -> 0
A14: 2. Travel and subsistence (for meetings, conferences, events, etc.)
F15: =D15*E15 -> 0 | H15: =SUMIF(January[Budget Line:],'3a. BudgetvsExpenditures'!B15,January[Amount:]) -> 0 | I15: =SUMIF(February[Budget Line:],'3a. BudgetvsExpenditures'!B15,February[Amount:]) -> 0 | J15: =SUMIF(March[Budget Line:],'3a. BudgetvsExpenditures'!B15,March[Amount:]) -> 0 | K15: =SUMIF(April[Budget Line:],'3a. BudgetvsExpenditures'!B15,April[Amount:]) -> 0 | L15: =SUMIF(May[Budget Line:],'3a. BudgetvsExpenditures'!B15,May[Amount:]) -> 0 | M15: =SUMIF(June[Budget Line:],'3a. BudgetvsExpenditures'!B15,June[Amount:]) -> 0 | N15: =SUMIF(July[Budget Line:],'3a. BudgetvsExpenditures'!B15,July[Amount:]) -> 0 | O15: =SUMIF(August[Budget Line:],'3a. BudgetvsExpenditures'!B15,August[Amount:]) -> 0 | P15: =SUMIF(September[Budget Line:],'3a. BudgetvsExpenditures'!B15,September[Amount:]) -> 0 | Q15: =SUMIF(October[Budget Line:],'3a. BudgetvsExpenditures'!B15,October[Amount:]) -> 0 | R15: =SUMIF(November[Budget Line:],'3a. BudgetvsExpenditures'!B15,November[Amount:]) -> 0 | S15: =SUMIF(December[Budget Line:],'3a. BudgetvsExpenditures'!B15,December[Amount:]) -> 0 | T15: =SUM(H15:S15) -> 0 | U15: =F15-T15 -> 0 | V15: =IFERROR(T15/F15,0) -> 0
F16: =D16*E16 -> 0 | H16: =SUMIF(January[Budget Line:],'3a. BudgetvsExpenditures'!B16,January[Amount:]) -> 0 | I16: =SUMIF(February[Budget Line:],'3a. BudgetvsExpenditures'!B16,February[Amount:]) -> 0 | J16: =SUMIF(March[Budget Line:],'3a. BudgetvsExpenditures'!B16,March[Amount:]) -> 0 | K16: =SUMIF(April[Budget Line:],'3a. BudgetvsExpenditures'!B16,April[Amount:]) -> 0 | L16: =SUMIF(May[Budget Line:],'3a. BudgetvsExpenditures'!B16,May[Amount:]) -> 0 | M16: =SUMIF(June[Budget Line:],'3a. BudgetvsExpenditures'!B16,June[Amount:]) -> 0 | N16: =SUMIF(July[Budget Line:],'3a. BudgetvsExpenditures'!B16,July[Amount:]) -> 0 | O16: =SUMIF(August[Budget Line:],'3a. BudgetvsExpenditures'!B16,August[Amount:]) -> 0 | P16: =SUMIF(September[Budget Line:],'3a. BudgetvsExpenditures'!B16,September[Amount:]) -> 0 | Q16: =SUMIF(October[Budget Line:],'3a. BudgetvsExpenditures'!B16,October[Amount:]) -> 0 | R16: =SUMIF(November[Budget Line:],'3a. BudgetvsExpenditures'!B16,November[Amount:]) -> 0 | S16: =SUMIF(December[Budget Line:],'3a. BudgetvsExpenditures'!B16,December[Amount:]) -> 0 | T16: =SUM(H16:S16) -> 0 | U16: =F16-T16 -> 0 | V16: =IFERROR(T16/F16,0) -> 0
F17: =D17*E17 -> 0 | H17: =SUMIF(January[Budget Line:],'3a. BudgetvsExpenditures'!B17,January[Amount:]) -> 0 | I17: =SUMIF(February[Budget Line:],'3a. BudgetvsExpenditures'!B17,February[Amount:]) -> 0 | J17: =SUMIF(March[Budget Line:],'3a. BudgetvsExpenditures'!B17,March[Amount:]) -> 0 | K17: =SUMIF(April[Budget Line:],'3a. BudgetvsExpenditures'!B17,April[Amount:]) -> 0 | L17: =SUMIF(May[Budget Line:],'3a. BudgetvsExpenditures'!B17,May[Amount:]) -> 0 | M17: =SUMIF(June[Budget Line:],'3a. BudgetvsExpenditures'!B17,June[Amount:]) -> 0 | N17: =SUMIF(July[Budget Line:],'3a. BudgetvsExpenditures'!B17,July[Amount:]) -> 0 | O17: =SUMIF(August[Budget Line:],'3a. BudgetvsExpenditures'!B17,August[Amount:]) -> 0 | P17: =SUMIF(September[Budget Line:],'3a. BudgetvsExpenditures'!B17,September[Amount:]) -> 0 | Q17: =SUMIF(October[Budget Line:],'3a. BudgetvsExpenditures'!B17,October[Amount:]) -> 0 | R17: =SUMIF(November[Budget Line:],'3a. BudgetvsExpenditures'!B17,November[Amount:]) -> 0 | S17: =SUMIF(December[Budget Line:],'3a. BudgetvsExpenditures'!B17,December[Amount:]) -> 0 | T17: =SUM(H17:S17) -> 0 | U17: =F17-T17 -> 0 | V17: =IFERROR(T17/F17,0) -> 0
F18: =D18*E18 -> 0 | H18: =SUMIF(January[Budget Line:],'3a. BudgetvsExpenditures'!B18,January[Amount:]) -> 0 | I18: =SUMIF(February[Budget Line:],'3a. BudgetvsExpenditures'!B18,February[Amount:]) -> 0 | J18: =SUMIF(March[Budget Line:],'3a. BudgetvsExpenditures'!B18,March[Amount:]) -> 0 | K18: =SUMIF(April[Budget Line:],'3a. BudgetvsExpenditures'!B18,April[Amount:]) -> 0 | L18: =SUMIF(May[Budget Line:],'3a. BudgetvsExpenditures'!B18,May[Amount:]) -> 0 | M18: =SUMIF(June[Budget Line:],'3a. BudgetvsExpenditures'!B18,June[Amount:]) -> 0 | N18: =SUMIF(July[Budget Line:],'3a. BudgetvsExpenditures'!B18,July[Amount:]) -> 0 | O18: =SUMIF(August[Budget Line:],'3a. BudgetvsExpenditures'!B18,August[Amount:]) -> 0 | P18: =SUMIF(September[Budget Line:],'3a. BudgetvsExpenditures'!B18,September[Amount:]) -> 0 | Q18: =SUMIF(October[Budget Line:],'3a. BudgetvsExpenditures'!B18,October[Amount:]) -> 0 | R18: =SUMIF(November[Budget Line:],'3a. BudgetvsExpenditures'!B18,November[Amount:]) -> 0 | S18: =SUMIF(December[Budget Line:],'3a. BudgetvsExpenditures'!B18,December[Amount:]) -> 0 | T18: =SUM(H18:S18) -> 0 | U18: =F18-T18 -> 0 | V18: =IFERROR(T18/F18,0) -> 0
A19: Subtotal Travel | F19: =SUM(F15:F18) -> 0 | H19: =SUM(H15:H18) -> 0 | I19: =SUM(I15:I18) -> 0 | J19: =SUM(J15:J18) -> 0 | K19: =SUM(K15:K18) -> 0 | L19: =SUM(L15:L18) -> 0 | M19: =SUM(M15:M18) -> 0 | N19: =SUM(N15:N18) -> 0 | O19: =SUM(O15:O18) -> 0 | ... U19: =SUM(U15:U18) -> 0
A20: 3. Consumables and supplies
F21: =D21*E21 -> 0 | H21: =SUMIF(January[Budget Line:],'3a. BudgetvsExpenditures'!B21,January[Amount:]) -> 0 | I21: =SUMIF(February[Budget Line:],'3a. BudgetvsExpenditures'!B21,February[Amount:]) -> 0 | J21: =SUMIF(March[Budget Line:],'3a. BudgetvsExpenditures'!B21,March[Amount:]) -> 0 | K21: =SUMIF(April[Budget Line:],'3a. BudgetvsExpenditures'!B21,April[Amount:]) -> 0 | L21: =SUMIF(May[Budget Line:],'3a. BudgetvsExpenditures'!B21,May[Amount:]) -> 0 | M21: =SUMIF(June[Budget Line:],'3a. BudgetvsExpenditures'!B21,June[Amount:]) -> 0 | N21: =SUMIF(July[Budget Line:],'3a. BudgetvsExpenditures'!B21,July[Amount:]) -> 0 | O21: =SUMIF(August[Budget Line:],'3a. BudgetvsExpenditures'!B21,August[Amount:]) -> 0 | P21: =SUMIF(September[Budget Line:],'3a. BudgetvsExpenditures'!B21,September[Amount:]) -> 0 | Q21: =SUMIF(October[Budget Line:],'3a. BudgetvsExpenditures'!B21,October[Amount:]) -> 0 | R21: =SUMIF(November[Budget Line:],'3a. BudgetvsExpenditures'!B21,November[Amount:]) -> 0 | S21: =SUMIF(December[Budget Line:],'3a. BudgetvsExpenditures'!B21,December[Amount:]) -> 0 | T21: =SUM(H21:S21) -> 0 | U21: =F21-T21 -> 0 | V21: =IFERROR(T21/F21,0) -> 0
F22: =D22*E22 -> 0 | H22: =SUMIF(January[Budget Line:],'3a. BudgetvsExpenditures'!B22,January[Amount:]) -> 0 | I22: =SUMIF(February[Budget Line:],'3a. BudgetvsExpenditures'!B22,February[Amount:]) -> 0 | J22: =SUMIF(March[Budget Line:],'3a. BudgetvsExpenditures'!B22,March[Amount:]) -> 0 | K22: =SUMIF(April[Budget Line:],'3a. BudgetvsExpenditures'!B22,April[Amount:]) -> 0 | L22: =SUMIF(May[Budget Line:],'3a. BudgetvsExpenditures'!B22,May[Amount:]) -> 0 | M22: =SUMIF(June[Budget Line:],'3a. BudgetvsExpenditures'!B22,June[Amount:]) -> 0 | N22: =SUMIF(July[Budget Line:],'3a. BudgetvsExpenditures'!B22,July[Amount:]) -> 0 | O22: =SUMIF(August[Budget Line:],'3a. BudgetvsExpenditures'!B22,August[Amount:]) -> 0 | P22: =SUMIF(September[Budget Line:],'3a. BudgetvsExpenditures'!B22,September[Amount:]) -> 0 | Q22: =SUMIF(October[Budget Line:],'3a. BudgetvsExpenditures'!B22,October[Amount:]) -> 0 | R22: =SUMIF(November[Budget Line:],'3a. BudgetvsExpenditures'!B22,November[Amount:]) -> 0 | S22: =SUMIF(December[Budget Line:],'3a. BudgetvsExpenditures'!B22,December[Amount:]) -> 0 | T22: =SUM(H22:S22) -> 0 | U22: =F22-T22 -> 0 | V22: =IFERROR(T22/F22,0) -> 0
F23: =D23*E23 -> 0 | H23: =SUMIF(January[Budget Line:],'3a. BudgetvsExpenditures'!B23,January[Amount:]) -> 0 | I23: =SUMIF(February[Budget Line:],'3a. BudgetvsExpenditures'!B23,February[Amount:]) -> 0 | J23: =SUMIF(March[Budget Line:],'3a. BudgetvsExpenditures'!B23,March[Amount:]) -> 0 | K23: =SUMIF(April[Budget Line:],'3a. BudgetvsExpenditures'!B23,April[Amount:]) -> 0 | L23: =SUMIF(May[Budget Line:],'3a. BudgetvsExpenditures'!B23,May[Amount:]) -> 0 | M23: =SUMIF(June[Budget Line:],'3a. BudgetvsExpenditures'!B23,June[Amount:]) -> 0 | N23: =SUMIF(July[Budget Line:],'3a. BudgetvsExpenditures'!B23,July[Amount:]) -> 0 | O23: =SUMIF(August[Budget Line:],'3a. BudgetvsExpenditures'!B23,August[Amount:]) -> 0 | P23: =SUMIF(September[Budget Line:],'3a. BudgetvsExpenditures'!B23,September[Amount:]) -> 0 | Q23: =SUMIF(October[Budget Line:],'3a. BudgetvsExpenditures'!B23,October[Amount:]) -> 0 | R23: =SUMIF(November[Budget Line:],'3a. BudgetvsExpenditures'!B23,November[Amount:]) -> 0 | S23: =SUMIF(December[Budget Line:],'3a. BudgetvsExpenditures'!B23,December[Amount:]) -> 0 | T23: =SUM(H23:S23) -> 0 | U23: =F23-T23 -> 0 | V23: =IFERROR(T23/F23,0) -> 0
A24: Subtotal consumables and supplies | F24: =SUM(F21:F23) -> 0 | H24: =SUM(H21:H23) -> 0 | I24: =SUM(I21:I23) -> 0 | J24: =SUM(J21:J23) -> 0 | K24: =SUM(K21:K23) -> 0 | L24: =SUM(L21:L23) -> 0 | M24: =SUM(M21:M23) -> 0 | N24: =SUM(N21:N23) -> 0 | O24: =SUM(O21:O23) -> 0 | ... U24: =SUM(U21:U23) -> 0
A25: 4. Rental (rental of venues linked to the performance of the action)
F26: =D26*E26 -> 0 | H26: =SUMIF(January[Budget Line:],'3a. BudgetvsExpenditures'!B26,January[Amount:]) -> 0 | I26: =SUMIF(February[Budget Line:],'3a. BudgetvsExpenditures'!B26,February[Amount:]) -> 0 | J26: =SUMIF(March[Budget Line:],'3a. BudgetvsExpenditures'!B26,March[Amount:]) -> 0 | K26: =SUMIF(April[Budget Line:],'3a. BudgetvsExpenditures'!B26,April[Amount:]) -> 0 | L26: =SUMIF(May[Budget Line:],'3a. BudgetvsExpenditures'!B26,May[Amount:]) -> 0 | M26: =SUMIF(June[Budget Line:],'3a. BudgetvsExpenditures'!B26,June[Amount:]) -> 0 | N26: =SUMIF(July[Budget Line:],'3a. BudgetvsExpenditures'!B26,July[Amount:]) -> 0 | O26: =SUMIF(August[Budget Line:],'3a. BudgetvsExpenditures'!B26,August[Amount:]) -> 0 | P26: =SUMIF(September[Budget Line:],'3a. BudgetvsExpenditures'!B26,September[Amount:]) -> 0 | Q26: =SUMIF(October[Budget Line:],'3a. BudgetvsExpenditures'!B26,October[Amount:]) -> 0 | R26: =SUMIF(November[Budget Line:],'3a. BudgetvsExpenditures'!B26,November[Amount:]) -> 0 | S26: =SUMIF(December[Budget Line:],'3a. BudgetvsExpenditures'!B26,December[Amount:]) -> 0 | T26: =SUM(H26:S26) -> 0 | U26: =F26-T26 -> 0 | V26: =IFERROR(T26/F26,0) -> 0
F27: =D27*E27 -> 0 | H27: =SUMIF(January[Budget Line:],'3a. BudgetvsExpenditures'!B27,January[Amount:]) -> 0 | I27: =SUMIF(February[Budget Line:],'3a. BudgetvsExpenditures'!B27,February[Amount:]) -> 0 | J27: =SUMIF(March[Budget Line:],'3a. BudgetvsExpenditures'!B27,March[Amount:]) -> 0 | K27: =SUMIF(April[Budget Line:],'3a. BudgetvsExpenditures'!B27,April[Amount:]) -> 0 | L27: =SUMIF(May[Budget Line:],'3a. BudgetvsExpenditures'!B27,May[Amount:]) -> 0 | M27: =SUMIF(June[Budget Line:],'3a. BudgetvsExpenditures'!B27,June[Amount:]) -> 0 | N27: =SUMIF(July[Budget Line:],'3a. BudgetvsExpenditures'!B27,July[Amount:]) -> 0 | O27: =SUMIF(August[Budget Line:],'3a. BudgetvsExpenditures'!B27,August[Amount:]) -> 0 | P27: =SUMIF(September[Budget Line:],'3a. BudgetvsExpenditures'!B27,September[Amount:]) -> 0 | Q27: =SUMIF(October[Budget Line:],'3a. BudgetvsExpenditures'!B27,October[Amount:]) -> 0 | R27: =SUMIF(November[Budget Line:],'3a. BudgetvsExpenditures'!B27,November[Amount:]) -> 0 | S27: =SUMIF(December[Budget Line:],'3a. BudgetvsExpenditures'!B27,December[Amount:]) -> 0 | T27: =SUM(H27:S27) -> 0 | U27: =F27-T27 -> 0 | V27: =IFERROR(T27/F27,0) -> 0
F28: =D28*E28 -> 0 | H28: =SUMIF(January[Budget Line:],'3a. BudgetvsExpenditures'!B28,January[Amount:]) -> 0 | I28: =SUMIF(February[Budget Line:],'3a. BudgetvsExpenditures'!B28,February[Amount:]) -> 0 | J28: =SUMIF(March[Budget Line:],'3a. BudgetvsExpenditures'!B28,March[Amount:]) -> 0 | K28: =SUMIF(April[Budget Line:],'3a. BudgetvsExpenditures'!B28,April[Amount:]) -> 0 | L28: =SUMIF(May[Budget Line:],'3a. BudgetvsExpenditures'!B28,May[Amount:]) -> 0 | M28: =SUMIF(June[Budget Line:],'3a. BudgetvsExpenditures'!B28,June[Amount:]) -> 0 | N28: =SUMIF(July[Budget Line:],'3a. BudgetvsExpenditures'!B28,July[Amount:]) -> 0 | O28: =SUMIF(August[Budget Line:],'3a. BudgetvsExpenditures'!B28,August[Amount:]) -> 0 | P28: =SUMIF(September[Budget Line:],'3a. BudgetvsExpenditures'!B28,September[Amount:]) -> 0 | Q28: =SUMIF(October[Budget Line:],'3a. BudgetvsExpenditures'!B28,October[Amount:]) -> 0 | R28: =SUMIF(November[Budget Line:],'3a. BudgetvsExpenditures'!B28,November[Amount:]) -> 0 | S28: =SUMIF(December[Budget Line:],'3a. BudgetvsExpenditures'!B28,December[Amount:]) -> 0 | T28: =SUM(H28:S28) -> 0 | U28: =F28-T28 -> 0 | V28: =IFERROR(T28/F28,0) -> 0
F29: =D29*E29 -> 0 | H29: =SUMIF(January[Budget Line:],'3a. BudgetvsExpenditures'!B29,January[Amount:]) -> 0 | I29: =SUMIF(February[Budget Line:],'3a. BudgetvsExpenditures'!B29,February[Amount:]) -> 0 | J29: =SUMIF(March[Budget Line:],'3a. BudgetvsExpenditures'!B29,March[Amount:]) -> 0 | K29: =SUMIF(April[Budget Line:],'3a. BudgetvsExpenditures'!B29,April[Amount:]) -> 0 | L29: =SUMIF(May[Budget Line:],'3a. BudgetvsExpenditures'!B29,May[Amount:]) -> 0 | M29: =SUMIF(June[Budget Line:],'3a. BudgetvsExpenditures'!B29,June[Amount:]) -> 0 | N29: =SUMIF(July[Budget Line:],'3a. BudgetvsExpenditures'!B29,July[Amount:]) -> 0 | O29: =SUMIF(August[Budget Line:],'3a. BudgetvsExpenditures'!B29,August[Amount:]) -> 0 | P29: =SUMIF(September[Budget Line:],'3a. BudgetvsExpenditures'!B29,September[Amount:]) -> 0 | Q29: =SUMIF(October[Budget Line:],'3a. BudgetvsExpenditures'!B29,October[Amount:]) -> 0 | R29: =SUMIF(November[Budget Line:],'3a. BudgetvsExpenditures'!B29,November[Amount:]) -> 0 | S29: =SUMIF(December[Budget Line:],'3a. BudgetvsExpenditures'!B29,December[Amount:]) -> 0 | T29: =SUM(H29:S29) -> 0 | U29: =F29-T29 -> 0 | V29: =IFERROR(T29/F29,0) -> 0
A30: Subtotal rental | F30: =SUM(F26:F29) -> 0 | H30: =SUM(H26:H29) -> 0 | I30: =SUM(I26:I29) -> 0 | J30: =SUM(J26:J29) -> 0 | K30: =SUM(K26:K29) -> 0 | L30: =SUM(L26:L29) -> 0 | M30: =SUM(M26:M29) -> 0 | N30: =SUM(N26:N29) -> 0 | O30: =SUM(O26:O29) -> 0 | ... U30: =SUM(U26:U29) -> 0
A31: 5. Other costs, services (dissemination, translation, reproduction, printing, etc.)
F32: =D32*E32 -> 0 | H32: =SUMIF(January[Budget Line:],'3a. BudgetvsExpenditures'!B32,January[Amount:]) -> 0 | I32: =SUMIF(February[Budget Line:],'3a. BudgetvsExpenditures'!B32,February[Amount:]) -> 0 | J32: =SUMIF(March[Budget Line:],'3a. BudgetvsExpenditures'!B32,March[Amount:]) -> 0 | K32: =SUMIF(April[Budget Line:],'3a. BudgetvsExpenditures'!B32,April[Amount:]) -> 0 | L32: =SUMIF(May[Budget Line:],'3a. BudgetvsExpenditures'!B32,May[Amount:]) -> 0 | M32: =SUMIF(June[Budget Line:],'3a. BudgetvsExpenditures'!B32,June[Amount:]) -> 0 | N32: =SUMIF(July[Budget Line:],'3a. BudgetvsExpenditures'!B32,July[Amount:]) -> 0 | O32: =SUMIF(August[Budget Line:],'3a. BudgetvsExpenditures'!B32,August[Amount:]) -> 0 | P32: =SUMIF(September[Budget Line:],'3a. BudgetvsExpenditures'!B32,September[Amount:]) -> 0 | Q32: =SUMIF(October[Budget Line:],'3a. BudgetvsExpenditures'!B32,October[Amount:]) -> 0 | R32: =SUMIF(November[Budget Line:],'3a. BudgetvsExpenditures'!B32,November[Amount:]) -> 0 | S32: =SUMIF(December[Budget Line:],'3a. BudgetvsExpenditures'!B32,December[Amount:]) -> 0 | T32: =SUM(H32:S32) -> 0 | U32: =F32-T32 -> 0 | V32: =IFERROR(T32/F32,0) -> 0
F33: =D33*E33 -> 0 | H33: =SUMIF(January[Budget Line:],'3a. BudgetvsExpenditures'!B33,January[Amount:]) -> 0 | I33: =SUMIF(February[Budget Line:],'3a. BudgetvsExpenditures'!B33,February[Amount:]) -> 0 | J33: =SUMIF(March[Budget Line:],'3a. BudgetvsExpenditures'!B33,March[Amount:]) -> 0 | K33: =SUMIF(April[Budget Line:],'3a. BudgetvsExpenditures'!B33,April[Amount:]) -> 0 | L33: =SUMIF(May[Budget Line:],'3a. BudgetvsExpenditures'!B33,May[Amount:]) -> 0 | M33: =SUMIF(June[Budget Line:],'3a. BudgetvsExpenditures'!B33,June[Amount:]) -> 0 | N33: =SUMIF(July[Budget Line:],'3a. BudgetvsExpenditures'!B33,July[Amount:]) -> 0 | O33: =SUMIF(August[Budget Line:],'3a. BudgetvsExpenditures'!B33,August[Amount:]) -> 0 | P33: =SUMIF(September[Budget Line:],'3a. BudgetvsExpenditures'!B33,September[Amount:]) -> 0 | Q33: =SUMIF(October[Budget Line:],'3a. BudgetvsExpenditures'!B33,October[Amount:]) -> 0 | R33: =SUMIF(November[Budget Line:],'3a. BudgetvsExpenditures'!B33,November[Amount:]) -> 0 | S33: =SUMIF(December[Budget Line:],'3a. BudgetvsExpenditures'!B33,December[Amount:]) -> 0 | T33: =SUM(H33:S33) -> 0 | U33: =F33-T33 -> 0 | V33: =IFERROR(T33/F33,0) -> 0
F34: =D34*E34 -> 0 | H34: =SUMIF(January[Budget Line:],'3a. BudgetvsExpenditures'!B34,January[Amount:]) -> 0 | I34: =SUMIF(February[Budget Line:],'3a. BudgetvsExpenditures'!B34,February[Amount:]) -> 0 | J34: =SUMIF(March[Budget Line:],'3a. BudgetvsExpenditures'!B34,March[Amount:]) -> 0 | K34: =SUMIF(April[Budget Line:],'3a. BudgetvsExpenditures'!B34,April[Amount:]) -> 0 | L34: =SUMIF(May[Budget Line:],'3a. BudgetvsExpenditures'!B34,May[Amount:]) -> 0 | M34: =SUMIF(June[Budget Line:],'3a. BudgetvsExpenditures'!B34,June[Amount:]) -> 0 | N34: =SUMIF(July[Budget Line:],'3a. BudgetvsExpenditures'!B34,July[Amount:]) -> 0 | O34: =SUMIF(August[Budget Line:],'3a. BudgetvsExpenditures'!B34,August[Amount:]) -> 0 | P34: =SUMIF(September[Budget Line:],'3a. BudgetvsExpenditures'!B34,September[Amount:]) -> 0 | Q34: =SUMIF(October[Budget Line:],'3a. BudgetvsExpenditures'!B34,October[Amount:]) -> 0 | R34: =SUMIF(November[Budget Line:],'3a. BudgetvsExpenditures'!B34,November[Amount:]) -> 0 | S34: =SUMIF(December[Budget Line:],'3a. BudgetvsExpenditures'!B34,December[Amount:]) -> 0 | T34: =SUM(H34:S34) -> 0 | U34: =F34-T34 -> 0 | V34: =IFERROR(T34/F34,0) -> 0
F35: =D35*E35 -> 0 | H35: =SUMIF(January[Budget Line:],'3a. BudgetvsExpenditures'!B35,January[Amount:]) -> 0 | I35: =SUMIF(February[Budget Line:],'3a. BudgetvsExpenditures'!B35,February[Amount:]) -> 0 | J35: =SUMIF(March[Budget Line:],'3a. BudgetvsExpenditures'!B35,March[Amount:]) -> 0 | K35: =SUMIF(April[Budget Line:],'3a. BudgetvsExpenditures'!B35,April[Amount:]) -> 0 | L35: =SUMIF(May[Budget Line:],'3a. BudgetvsExpenditures'!B35,May[Amount:]) -> 0 | M35: =SUMIF(June[Budget Line:],'3a. BudgetvsExpenditures'!B35,June[Amount:]) -> 0 | N35: =SUMIF(July[Budget Line:],'3a. BudgetvsExpenditures'!B35,July[Amount:]) -> 0 | O35: =SUMIF(August[Budget Line:],'3a. BudgetvsExpenditures'!B35,August[Amount:]) -> 0 | P35: =SUMIF(September[Budget Line:],'3a. BudgetvsExpenditures'!B35,September[Amount:]) -> 0 | Q35: =SUMIF(October[Budget Line:],'3a. BudgetvsExpenditures'!B35,October[Amount:]) -> 0 | R35: =SUMIF(November[Budget Line:],'3a. BudgetvsExpenditures'!B35,November[Amount:]) -> 0 | S35: =SUMIF(December[Budget Line:],'3a. BudgetvsExpenditures'!B35,December[Amount:]) -> 0 | T35: =SUM(H35:S35) -> 0 | U35: =F35-T35 -> 0 | V35: =IFERROR(T35/F35,0) -> 0
A36: Subtotal Other costs, services | F36: =SUM(F32:F35) -> 0 | H36: =SUM(H32:H35) -> 0 | I36: =SUM(I32:I35) -> 0 | J36: =SUM(J32:J35) -> 0 | K36: =SUM(K32:K35) -> 0 | L36: =SUM(L32:L35) -> 0 | M36: =SUM(M32:M35) -> 0 | N36: =SUM(N32:N35) -> 0 | O36: =SUM(O32:O35) -> 0 | ... U36: =SUM(U32:U35) -> 0
A37: 6. Other
A38: 2.1 | B38: Other | F38: =D38*E38 -> 0 | H38: =SUMIF(January[Budget Line:],'3a. BudgetvsExpenditures'!B38,January[Amount:]) -> 0 | I38: =SUMIF(February[Budget Line:],'3a. BudgetvsExpenditures'!B38,February[Amount:]) -> 0 | J38: =SUMIF(March[Budget Line:],'3a. BudgetvsExpenditures'!B38,March[Amount:]) -> 0 | K38: =SUMIF(April[Budget Line:],'3a. BudgetvsExpenditures'!B38,April[Amount:]) -> 0 | L38: =SUMIF(May[Budget Line:],'3a. BudgetvsExpenditures'!B38,May[Amount:]) -> 0 | M38: =SUMIF(June[Budget Line:],'3a. BudgetvsExpenditures'!B38,June[Amount:]) -> 0 | N38: =SUMIF(July[Budget Line:],'3a. BudgetvsExpenditures'!B38,July[Amount:]) -> 0 | O38: =SUMIF(August[Budget Line:],'3a. BudgetvsExpenditures'!B38,August[Amount:]) -> 0 | P38: =SUMIF(September[Budget Line:],'3a. BudgetvsExpenditures'!B38,September[Amount:]) -> 0 | Q38: =SUMIF(October[Budget Line:],'3a. BudgetvsExpenditures'!B38,October[Amount:]) -> 0 | R38: =SUMIF(November[Budget Line:],'3a. BudgetvsExpenditures'!B38,November[Amount:]) -> 0 | S38: =SUMIF(December[Budget Line:],'3a. BudgetvsExpenditures'!B38,December[Amount:]) -> 0 | T38: =SUM(H38:S38) -> 0 | U38: =F38-T38 -> 0 | V38: =IFERROR(T38/F38,0) -> 0
F39: =D39*E39 -> 0 | H39: =SUMIF(January[Budget Line:],'3a. BudgetvsExpenditures'!B39,January[Amount:]) -> 0 | I39: =SUMIF(February[Budget Line:],'3a. BudgetvsExpenditures'!B39,February[Amount:]) -> 0 | J39: =SUMIF(March[Budget Line:],'3a. BudgetvsExpenditures'!B39,March[Amount:]) -> 0 | K39: =SUMIF(April[Budget Line:],'3a. BudgetvsExpenditures'!B39,April[Amount:]) -> 0 | L39: =SUMIF(May[Budget Line:],'3a. BudgetvsExpenditures'!B39,May[Amount:]) -> 0 | M39: =SUMIF(June[Budget Line:],'3a. BudgetvsExpenditures'!B39,June[Amount:]) -> 0 | N39: =SUMIF(July[Budget Line:],'3a. BudgetvsExpenditures'!B39,July[Amount:]) -> 0 | O39: =SUMIF(August[Budget Line:],'3a. BudgetvsExpenditures'!B39,August[Amount:]) -> 0 | P39: =SUMIF(September[Budget Line:],'3a. BudgetvsExpenditures'!B39,September[Amount:]) -> 0 | Q39: =SUMIF(October[Budget Line:],'3a. BudgetvsExpenditures'!B39,October[Amount:]) -> 0 | R39: =SUMIF(November[Budget Line:],'3a. BudgetvsExpenditures'!B39,November[Amount:]) -> 0 | S39: =SUMIF(December[Budget Line:],'3a. BudgetvsExpenditures'!B39,December[Amount:]) -> 0 | T39: =SUM(H39:S39) -> 0 | U39: =F39-T39 -> 0 | V39: =IFERROR(T39/F39,0) -> 0
F40: =D40*E40 -> 0 | H40: =SUMIF(January[Budget Line:],'3a. BudgetvsExpenditures'!B40,January[Amount:]) -> 0 | I40: =SUMIF(February[Budget Line:],'3a. BudgetvsExpenditures'!B40,February[Amount:]) -> 0 | J40: =SUMIF(March[Budget Line:],'3a. BudgetvsExpenditures'!B40,March[Amount:]) -> 0 | K40: =SUMIF(April[Budget Line:],'3a. BudgetvsExpenditures'!B40,April[Amount:]) -> 0 | L40: =SUMIF(May[Budget Line:],'3a. BudgetvsExpenditures'!B40,May[Amount:]) -> 0 | M40: =SUMIF(June[Budget Line:],'3a. BudgetvsExpenditures'!B40,June[Amount:]) -> 0 | N40: =SUMIF(July[Budget Line:],'3a. BudgetvsExpenditures'!B40,July[Amount:]) -> 0 | O40: =SUMIF(August[Budget Line:],'3a. BudgetvsExpenditures'!B40,August[Amount:]) -> 0 | P40: =SUMIF(September[Budget Line:],'3a. BudgetvsExpenditures'!B40,September[Amount:]) -> 0 | Q40: =SUMIF(October[Budget Line:],'3a. BudgetvsExpenditures'!B40,October[Amount:]) -> 0 | R40: =SUMIF(November[Budget Line:],'3a. BudgetvsExpenditures'!B40,November[Amount:]) -> 0 | S40: =SUMIF(December[Budget Line:],'3a. BudgetvsExpenditures'!B40,December[Amount:]) -> 0 | T40: =SUM(H40:S40) -> 0 | U40: =F40-T40 -> 0 | V40: =IFERROR(T40/F40,0) -> 0
F41: =D41*E41 -> 0 | H41: =SUMIF(January[Budget Line:],'3a. BudgetvsExpenditures'!B41,January[Amount:]) -> 0 | I41: =SUMIF(February[Budget Line:],'3a. BudgetvsExpenditures'!B41,February[Amount:]) -> 0 | J41: =SUMIF(March[Budget Line:],'3a. BudgetvsExpenditures'!B41,March[Amount:]) -> 0 | K41: =SUMIF(April[Budget Line:],'3a. BudgetvsExpenditures'!B41,April[Amount:]) -> 0 | L41: =SUMIF(May[Budget Line:],'3a. BudgetvsExpenditures'!B41,May[Amount:]) -> 0 | M41: =SUMIF(June[Budget Line:],'3a. BudgetvsExpenditures'!B41,June[Amount:]) -> 0 | N41: =SUMIF(July[Budget Line:],'3a. BudgetvsExpenditures'!B41,July[Amount:]) -> 0 | O41: =SUMIF(August[Budget Line:],'3a. BudgetvsExpenditures'!B41,August[Amount:]) -> 0 | P41: =SUMIF(September[Budget Line:],'3a. BudgetvsExpenditures'!B41,September[Amount:]) -> 0 | Q41: =SUMIF(October[Budget Line:],'3a. BudgetvsExpenditures'!B41,October[Amount:]) -> 0 | R41: =SUMIF(November[Budget Line:],'3a. BudgetvsExpenditures'!B41,November[Amount:]) -> 0 | S41: =SUMIF(December[Budget Line:],'3a. BudgetvsExpenditures'!B41,December[Amount:]) -> 0 | T41: =SUM(H41:S41) -> 0 | U41: =F41-T41 -> 0 | V41: =IFERROR(T41/F41,0) -> 0
F42: =D42*E42 -> 0 | H42: =SUMIF(January[Budget Line:],'3a. BudgetvsExpenditures'!B42,January[Amount:]) -> 0 | I42: =SUMIF(February[Budget Line:],'3a. BudgetvsExpenditures'!B42,February[Amount:]) -> 0 | J42: =SUMIF(March[Budget Line:],'3a. BudgetvsExpenditures'!B42,March[Amount:]) -> 0 | K42: =SUMIF(April[Budget Line:],'3a. BudgetvsExpenditures'!B42,April[Amount:]) -> 0 | L42: =SUMIF(May[Budget Line:],'3a. BudgetvsExpenditures'!B42,May[Amount:]) -> 0 | M42: =SUMIF(June[Budget Line:],'3a. BudgetvsExpenditures'!B42,June[Amount:]) -> 0 | N42: =SUMIF(July[Budget Line:],'3a. BudgetvsExpenditures'!B42,July[Amount:]) -> 0 | O42: =SUMIF(August[Budget Line:],'3a. BudgetvsExpenditures'!B42,August[Amount:]) -> 0 | P42: =SUMIF(September[Budget Line:],'3a. BudgetvsExpenditures'!B42,September[Amount:]) -> 0 | Q42: =SUMIF(October[Budget Line:],'3a. BudgetvsExpenditures'!B42,October[Amount:]) -> 0 | R42: =SUMIF(November[Budget Line:],'3a. BudgetvsExpenditures'!B42,November[Amount:]) -> 0 | S42: =SUMIF(December[Budget Line:],'3a. BudgetvsExpenditures'!B42,December[Amount:]) -> 0 | T42: =SUM(H42:S42) -> 0 | U42: =F42-T42 -> 0 | V42: =IFERROR(T42/F42,0) -> 0
...

Sheet 1.Jan
A2: Monthly Financial Report
B3: Donor: | C3: European Union | G3: Expenditures by Bank: | H3: =SUMIFS(January[Amount:],January[Paid By:],$L$3) -> 0 | L3: Transfer
B4: Beneficiary: | G4: Expenditures by Cash: | H4: =SUMIFS(January[Amount:],January[Paid By:],$L$4) -> 0 | L4: Cash
B5: Grant No: | G5: Total Expenditures: | H5: =SUM(H3:I4) -> 0
B6: Period: | G6: Amount Disbursed: | H6: 0
G7: Balance Due: | H7: =H6-H5 -> 0
A9: Trans No | B9: Date of Invoice: | C9: Paid Date: | D9: Receipt by: | E9: Ref. Number: | F9: Description: | G9: Budget Line: | H9: Paid By: | I9: Amount:
I18: =SUBTOTAL(109,January[Amount:]) -> 0
A20: I certify that the above information is accurate and correct, all costs incurred are allowable as per the terms of the Grants Agreement, and copies of all back-up documentation for the Program expenditures (receipts, invoices, vouchers, procurement information, etc.) are included with this report.
A23: Project Manager:____________________________________ | F23: Financial Manager: _____________________________
B24: Name and Surname | F24: Name and Surname
A26: ATRC Program Use Only
A27: I have reviewed the above financial report and attest that all expenditures are allowable and accounted for properly.
A29: Project Manager:____________________________________ | F29: Financial Manager: _____________________________
B30: Lirika Bakija | F30: Arsim Kosumi

Sheet 2.Feb
A2: Monthly Financial Report
B3: Donor: | C3: European Union | G3: Expenditures by Bank: | H3: =SUMIFS(February[Amount:],February[Paid By:],$L$3) -> 0 | L3: Transfer
B4: Beneficiary: | G4: Expenditures by Cash: | H4: =SUMIFS(February[Amount:],February[Paid By:],$L$4) -> 0 | L4: Cash
B5: Grant No: | G5: Total Expenditures: | H5: =SUM(H3:I4) -> 0
B6: Period: | G6: Amount Disbursed:
G7: Balance Due: | H7: ='1.Jan'!H7+H6-H5 -> 0
A9: Trans No | B9: Date of Invoice: | C9: Paid Date: | D9: Receipt by: | E9: Ref. Number: | F9: Description: | G9: Budget Line: | H9: Paid By: | I9: Amount:
I17: =SUBTOTAL(109,February[Amount:]) -> 0
A20: I certify that the above information is accurate and correct, all costs incurred are allowable as per the terms of the Grants Agreement, and copies of all back-up documentation for the Program expenditures (receipts, invoices, vouchers, procurement information, etc.) are included with this report.
A23: Project Manager:____________________________________ | F23: Financial Manager: _____________________________
B24: Name and Surname | F24: Name and Surname
A26: ATRC Program Use Only
A27: I have reviewed the above financial report and attest that all expenditures are allowable and accounted for properly.
A29: Project Manager:____________________________________ | F29: Financial Manager: _____________________________
B30: Lirika Bakija | F30: Arsim Kosumi

Sheet 3.March
A2: Monthly Financial Report
B3: Donor: | C3: European Union | G3: Expenditures by Bank: | H3: =SUMIFS(March[Amount:],March[Paid By:],$L$3) -> 0 | L3: Transfer
B4: Beneficiary: | G4: Expenditures by Cash: | H4: =SUMIFS(March[Amount:],March[Paid By:],$L$4) -> 0 | L4: Cash
B5: Grant No: | G5: Total Expenditures: | H5: =SUM(H3:I4) -> 0
B6: Period: | G6: Amount Disbursed:
G7: Balance Due: | H7: ='2.Feb'!H7+H6-H5 -> 0
A9: Trans No | B9: Date of Invoice: | C9: Paid Date: | D9: Receipt by: | E9: Ref. Number: | F9: Description: | G9: Budget Line: | H9: Paid By: | I9: Amount:
I18: =SUBTOTAL(109,March[Amount:]) -> 0
A20: I certify that the above information is accurate and correct, all costs incurred are allowable as per the terms of the Grants Agreement, and copies of all back-up documentation for the Program expenditures (receipts, invoices, vouchers, procurement information, etc.) are included with this report.
A23: Project Manager:____________________________________ | F23: Financial Manager: _____________________________
B24: Name and Surname | F24: Name and Surname
A26: ATRC Program Use Only
A27: I have reviewed the above financial report and attest that all expenditures are allowable and accounted for properly.
A29: Project Manager:____________________________________ | F29: Financial Manager: _____________________________
B30: Lirika Bakija | F30: Arsim Kosumi

Sheet 4.Apr
A2: Monthly Financial Report
B3: Donor: | C3: European Union | G3: Expenditures by Bank: | H3: =SUMIFS(April[Amount:],April[Paid By:],$L$3) -> 0 | L3: Transfer
B4: Beneficiary: | G4: Expenditures by Cash: | H4: =SUMIFS(April[Amount:],April[Paid By:],$L$4) -> 0 | L4: Cash
B5: Grant No: | G5: Total Expenditures: | H5: =SUM(H3:I4) -> 0
B6: Period: | G6: Amount Disbursed:
G7: Balance Due: | H7: ='3.March'!H7+H6-H5 -> 0
A9: Trans No | B9: Date of Invoice: | C9: Paid Date: | D9: Receipt by: | E9: Ref. Number: | F9: Description: | G9: Budget Line: | H9: Paid By: | I9: Amount:
I18: =SUBTOTAL(109,April[Amount:]) -> 0
A20: I certify that the above information is accurate and correct, all costs incurred are allowable as per the terms of the Grants Agreement, and copies of all back-up documentation for the Program expenditures (receipts, invoices, vouchers, procurement information, etc.) are included with this report.
A23: Project Manager:____________________________________ | F23: Financial Manager: _____________________________
B24: Name and Surname | F24: Name and Surname
A26: ATRC Program Use Only
A27: I have reviewed the above financial report and attest that all expenditures are allowable and accounted for properly.
A29: Project Manager:____________________________________ | F29: Financial Manager: _____________________________
B30: Lirika Bakija | F30: Arsim Kosumi

Sheet 5.May
A2: Monthly Financial Report
B3: Donor: | C3: European Union | G3: Expenditures by Bank: | H3: =SUMIFS(May[Amount:],May[Paid By:],$L$3) -> 0 | L3: Transfer
B4: Beneficiary: | G4: Expenditures by Cash: | H4: =SUMIFS(May[Amount:],May[Paid By:],$L$4) -> 0 | L4: Cash
B5: Grant No: | G5: Total Expenditures: | H5: =SUM(H3:I4) -> 0
B6: Period: | G6: Amount Disbursed:
G7: Balance Due: | H7: ='4.Apr'!H7+H6-H5 -> 0
A9: Trans No | B9: Date of Invoice: | C9: Paid Date: | D9: Receipt by: | E9: Ref. Number: | F9: Description: | G9: Budget Line: | H9: Paid By: | I9: Amount:
I18: =SUBTOTAL(109,May[Amount:]) -> 0
A20: I certify that the above information is accurate and correct, all costs incurred are allowable as per the terms of the Grants Agreement, and copies of all back-up documentation for the Program expenditures (receipts, invoices, vouchers, procurement information, etc.) are included with this report.
A23: Project Manager:____________________________________ | F23: Financial Manager: _____________________________
B24: Name and Surname | F24: Name and Surname
A26: ATRC Program Use Only
A27: I have reviewed the above financial report and attest that all expenditures are allowable and accounted for properly.
A29: Project Manager:____________________________________ | F29: Financial Manager: _____________________________
B30: Lirika Bakija | F30: Arsim Kosumi

Sheet 6.June
A2: Monthly Financial Report
B3: Donor: | C3: European Union | G3: Expenditures by Bank: | H3: =SUMIFS(June[Amount:],June[Paid By:],$L$3) -> 0 | L3: Transfer
B4: Beneficiary: | G4: Expenditures by Cash: | H4: =SUMIFS(June[Amount:],June[Paid By:],$L$4) -> 0 | L4: Cash
B5: Grant No: | G5: Total Expenditures: | H5: =SUM(H3:I4) -> 0
B6: Period: | G6: Amount Disbursed:
G7: Balance Due: | H7: ='5.May'!H7+H6-H5 -> 0
A9: Trans No | B9: Date of Invoice: | C9: Paid Date: | D9: Receipt by: | E9: Ref. Number: | F9: Description: | G9: Budget Line: | H9: Paid By: | I9: Amount:
I18: =SUBTOTAL(109,June[Amount:]) -> 0
A21: I certify that the above information is accurate and correct, all costs incurred are allowable as per the terms of the Grants Agreement, and copies of all back-up documentation for the Program expenditures (receipts, invoices, vouchers, procurement information, etc.) are included with this report.
A24: Project Manager:____________________________________ | F24: Financial Manager: _____________________________
B25: Name and Surname | F25: Name and Surname
A27: ATRC Program Use Only
A28: I have reviewed the above financial report and attest that all expenditures are allowable and accounted for properly.
A30: Project Manager:____________________________________ | F30: Financial Manager: _____________________________
B31: Lirika Bakija | F31: Arsim Kosumi

Sheet 7.Jul
A2: Monthly Financial Report
B3: Donor: | C3: European Union | G3: Expenditures by Bank: | H3: =SUMIFS(July[Amount:],July[Paid By:],$L$3) -> 0 | L3: Transfer
B4: Beneficiary: | G4: Expenditures by Cash: | H4: =SUMIFS(July[Amount:],July[Paid By:],$L$4) -> 0 | L4: Cash
B5: Grant No: | G5: Total Expenditures: | H5: =SUM(H3:I4) -> 0
B6: Period: | G6: Amount Disbursed:
G7: Balance Due: | H7: ='6.June'!H7+H6-H5 -> 0
A9: Trans No | B9: Date of Invoice: | C9: Paid Date: | D9: Receipt by: | E9: Ref. Number: | F9: Description: | G9: Budget Line: | H9: Paid By: | I9: Amount:
I18: =SUBTOTAL(109,July[Amount:]) -> 0
A20: I certify that the above information is accurate and correct, all costs incurred are allowable as per the terms of the Grants Agreement, and copies of all back-up documentation for the Program expenditures (receipts, invoices, vouchers, procurement information, etc.) are included with this report.
A23: Project Manager:____________________________________ | F23: Financial Manager: _____________________________
B24: Name and Surname | F24: Name and Surname
A26: ATRC Program Use Only
A27: I have reviewed the above financial report and attest that all expenditures are allowable and accounted for properly.
A29: Project Manager:____________________________________ | F29: Financial Manager: _____________________________
B30: Lirika Bakija | F30: Arsim Kosumi

Sheet 8.Aug
A2: Monthly Financial Report
B3: Donor: | C3: European Union | G3: Expenditures by Bank: | H3: =SUMIFS(August[Amount:],August[Paid By:],$L$3) -> 0 | L3: Transfer
B4: Beneficiary: | G4: Expenditures by Cash: | H4: =SUMIFS(August[Amount:],August[Paid By:],$L$4) -> 0 | L4: Cash
B5: Grant No: | G5: Total Expenditures: | H5: =SUM(H3:I4) -> 0
B6: Period: | G6: Amount Disbursed:
G7: Balance Due: | H7: ='7.Jul'!H7+H6-H5 -> 0
A9: Trans No | B9: Date of Invoice: | C9: Paid Date: | D9: Receipt by: | E9: Ref. Number: | F9: Description: | G9: Budget Line: | H9: Paid By: | I9: Amount:
I18: =SUBTOTAL(109,August[Amount:]) -> 0
A20: I certify that the above information is accurate and correct, all costs incurred are allowable as per the terms of the Grants Agreement, and copies of all back-up documentation for the Program expenditures (receipts, invoices, vouchers, procurement information, etc.) are included with this report.
A23: Project Manager:____________________________________ | F23: Financial Manager: _____________________________
B24: Name and Surname | F24: Name and Surname
A26: ATRC Program Use Only
A27: I have reviewed the above financial report and attest that all expenditures are allowable and accounted for properly.
A29: Project Manager:____________________________________ | F29: Financial Manager: _____________________________
B30: Lirika Bakija | F30: Arsim Kosumi

Sheet 9.Sep
A2: Monthly Financial Report
B3: Donor: | C3: European Union | G3: Expenditures by Bank: | H3: =SUMIFS(September[Amount:],September[Paid By:],$L$3) -> 0 | L3: Transfer
B4: Beneficiary: | G4: Expenditures by Cash: | H4: =SUMIFS(September[Amount:],September[Paid By:],$L$4) -> 0 | L4: Cash
B5: Grant No: | G5: Total Expenditures: | H5: =SUM(H3:I4) -> 0
B6: Period: | G6: Amount Disbursed:
G7: Balance Due: | H7: ='8.Aug'!H7+H6-H5 -> 0
A9: Trans No | B9: Date of Invoice: | C9: Paid Date: | D9: Receipt by: | E9: Ref. Number: | F9: Description: | G9: Budget Line: | H9: Paid By: | I9: Amount:
I18: =SUBTOTAL(109,September[Amount:]) -> 0
A20: I certify that the above information is accurate and correct, all costs incurred are allowable as per the terms of the Grants Agreement, and copies of all back-up documentation for the Program expenditures (receipts, invoices, vouchers, procurement information, etc.) are included with this report.
A23: Project Manager:____________________________________ | F23: Financial Manager: _____________________________
B24: Name and Surname | F24: Name and Surname
A26: ATRC Program Use Only
A27: I have reviewed the above financial report and attest that all expenditures are allowable and accounted for properly.
A29: Project Manager:____________________________________ | F29: Financial Manager: _____________________________
B30: Lirika Bakija | F30: Arsim Kosumi

Sheet 10.Oct
A2: Monthly Financial Report
B3: Donor: | C3: European Union | G3: Expenditures by Bank: | H3: =SUMIFS(October[Amount:],October[Paid By:],$L$3) -> 0 | L3: Transfer
B4: Beneficiary: | G4: Expenditures by Cash: | H4: =SUMIFS(October[Amount:],October[Paid By:],$L$4) -> 0 | L4: Cash
B5: Grant No: | G5: Total Expenditures: | H5: =SUM(H3:I4) -> 0
B6: Period: | G6: Amount Disbursed:
G7: Balance Due: | H7: ='9.Sep'!H7+H6-H5 -> 0
A9: Trans No | B9: Date of Invoice: | C9: Paid Date: | D9: Receipt by: | E9: Ref. Number: | F9: Description: | G9: Budget Line: | H9: Paid By: | I9: Amount:
I18: =SUBTOTAL(109,October[Amount:]) -> 0
A20: I certify that the above information is accurate and correct, all costs incurred are allowable as per the terms of the Grants Agreement, and copies of all back-up documentation for the Program expenditures (receipts, invoices, vouchers, procurement information, etc.) are included with this report.
A23: Project Manager:____________________________________ | F23: Financial Manager: _____________________________
B24: Name and Surname | F24: Name and Surname
A26: ATRC Program Use Only
A27: I have reviewed the above financial report and attest that all expenditures are allowable and accounted for properly.
A29: Project Manager:____________________________________ | F29: Financial Manager: _____________________________
B30: Lirika Bakija | F30: Arsim Kosumi

Sheet 11.Nov
A2: Monthly Financial Report
B3: Donor: | C3: European Union | G3: Expenditures by Bank: | H3: =SUMIFS(November[Amount:],November[Paid By:],$L$3) -> 0 | L3: Transfer
B4: Beneficiary: | G4: Expenditures by Cash: | H4: =SUMIFS(November[Amount:],November[Paid By:],$L$4) -> 0 | L4: Cash
B5: Grant No: | G5: Total Expenditures: | H5: =SUM(H3:I4) -> 0
B6: Period: | G6: Amount Disbursed:
G7: Balance Due: | H7: ='10.Oct'!H7+H6-H5 -> 0
A9: Trans No | B9: Date of Invoice: | C9: Paid Date: | D9: Receipt by: | E9: Ref. Number: | F9: Description: | G9: Budget Line: | H9: Paid By: | I9: Amount:
I18: =SUBTOTAL(109,November[Amount:]) -> 0
A20: I certify that the above information is accurate and correct, all costs incurred are allowable as per the terms of the Grants Agreement, and copies of all back-up documentation for the Program expenditures (receipts, invoices, vouchers, procurement information, etc.) are included with this report.
A23: Project Manager:____________________________________ | F23: Financial Manager: _____________________________
B24: Name and Surname | F24: Name and Surname
A26: ATRC Program Use Only
A27: I have reviewed the above financial report and attest that all expenditures are allowable and accounted for properly.
A29: Project Manager:____________________________________ | F29: Financial Manager: _____________________________
B30: Lirika Bakija | F30: Arsim Kosumi

Sheet 12.Dec
A2: Monthly Financial Report
B3: Donor: | C3: European Union | G3: Expenditures by Bank: | H3: =SUMIFS(December[Amount:],December[Paid By:],$L$3) -> 0 | L3: Transfer
B4: Beneficiary: | G4: Expenditures by Cash: | H4: =SUMIFS(December[Amount:],December[Paid By:],$L$4) -> 0 | L4: Cash
B5: Grant No: | G5: Total Expenditures: | H5: =SUM(H3:I4) -> 0
B6: Period: | G6: Amount Disbursed:
G7: Balance Due: | H7: ='11.Nov'!H7+H6-H5 -> 0
A9: Trans No | B9: Date of Invoice: | C9: Paid Date: | D9: Receipt by: | E9: Ref. Number: | F9: Description: | G9: Budget Line: | H9: Paid By: | I9: Amount:
I18: =SUBTOTAL(109,December[Amount:]) -> 0
A20: I certify that the above information is accurate and correct, all costs incurred are allowable as per the terms of the Grants Agreement, and copies of all back-up documentation for the Program expenditures (receipts, invoices, vouchers, procurement information, etc.) are included with this report.
A23: Project Manager:____________________________________ | F23: Financial Manager: _____________________________
B24: Name and Surname | F24: Name and Surname
A26: ATRC Program Use Only
A27: I have reviewed the above financial report and attest that all expenditures are allowable and accounted for properly.
A29: Project Manager:____________________________________ | F29: Financial Manager: _____________________________
B30: Lirika Bakija | F30: Arsim Kosumi

Sheet 13. In-Kind
B1: General Ledger, Monthly Financial Report
C2: Donor: | H2: Expenditures by Bank: | I2: =SUMIFS(InKind[Amount:],InKind[Paid By:],$M$2) -> 0 | M2: Transfer
C3: Partner: | H3: Expenditures by Cash: | I3: =SUMIFS(InKind[Amount:],InKind[Paid By:],$M$3) -> 0 | M3: Cash
C4: Sub-Partner: | H4: Total Expenditures: | I4: =SUM(I2:J3) -> 0
C5: Grant No: | H5: Amount Disbursed:
C6: Period: | H6: Balance Due: | I6: ='11.Nov'!H7+I5-I4 -> 0
B8: Trans No | C8: Date of Invoice: | D8: Paid Date: | E8: Receipt by: | F8: Ref. Number: | G8: Description: | H8: Budget Line: | I8: Paid By: | J8: Amount:
J19: =SUBTOTAL(109,InKind[Amount:]) -> 0
A20: I certify that the above information is accurate and correct, all costs incurred are allowable as per the terms of the Grants Agreement, and copies of all back-up documentation for the Program expenditures (receipts, invoices, vouchers, procurement information, etc.) are included with this report.
A23: Project Manager:____________________________________ | F23: Financial Manager: _____________________________
B24: Name and Surname | F24: Name and Surname
A26: ATRC Program Use Only
A27: I have reviewed the above financial report and attest that all expenditures are allowable and accounted for properly.
A29: Project Manager:____________________________________ | F29: Financial Manager: _____________________________
B30: Name and Surname | F30: Name and Surname

Sheet Auth Form
B1: AUTORIZIM PËR PAGESA / PAYMENT AUTHORIZATION | O1: TRANSCA. # | T1: ATRC | U1: 4049150864293910
A2: Organizata Kosovare per Talent dhe Arsim - TOKA Rr. Meto Bajraktari, 4/1 10000, Prishtinȅ - Kosovȅ | E2: Deklaratë / Statement: Unë e autorizoj procesimin e kësaj kërkese që paraqitet më poshtë, për të debituar ose kredituar nga llogaria bankare/arka. I hereby authorize the processing of this request indicated below, to debit or credit from the bank account/cash box. | O2: 10490 | T2: KCSF | U2: 4226991476697057
A3: QuickBooks Trans no. | B3: 9668
A4: Parashtruar nga: Submitted by:
A5: Emri / Name | C5: Mbiemri / Surname | H5: Pozita / Position | T5: GENERAL | U5: 4226991476677661
A6: =IFERROR(VLOOKUP(O2,'1.Jan'!$A$11:$K$27,18,FALSE),"") | C6: =IFERROR(VLOOKUP(O2,'1.Jan'!$A$11:$L$27,19,FALSE),"") | H6: =IFERROR(VLOOKUP(O2,'1.Jan'!$A$11:$Q$27,24,FALSE),"")
A7: Data / Date | C7: Vendi / Place | H7: Nënshkrimi / Signature | Q7: 10450
A8: =IFERROR(VLOOKUP(O2,'1.Jan'!A10:I801,3,FALSE),"") | C8: Prishtinë | Q8: 10452
Q9: 10453
A10: Kjo kërkesë është për: / This request is for: | Q10: 10457
Q11: 10458
A12: Lloji i Transaksionit / Transaction Type: | Q12: 10459
A13: Transfer Banka / Wire Transfer | Q13: 10460
A14: Transferuar nga Llogaria / Transferred from Account - DEBIT | F14: Transferuar në llogarinë / Transferred to account - CREDIT | Q14: 10461
Q15: 10462
A16: Numri i Llogarisë / Account Number: | F16: Numri i Llogarisë / Account Number: | Q16: 10464
Q17: 10523
A18: Emri i Llogarisë / Account Name or Project | F18: Emri i Pranusit / Name of Account | Q18: 10520
Q19: 10465
A20: Pershkrimi / Description | F20: Pershkrimi / Description | Q20: 10466
Q21: 10467
A22: Shuma / Amount | F22: Shuma / Amount | Q22: 10469
Q23: 10470
A24: Pagesë me Kartelë / Credit Card Payment | Q24: 10471
A25: Paguar nga Kartela / Paid from Credit Card - DEBIT | F25: Paguar në llogarinë / Paid to account - CREDIT | Q25: 10511
A26: 4226991476677661 | F26: =IFERROR(VLOOKUP(O2,'1.Jan'!A10:I12,7,FALSE),"") | Q26: 10548
A27: Numri i Kartelës / Credit Card Number: | F27: Përfituesi / Benifificary | Q27: 10473
A28: =IFERROR(VLOOKUP(O2,'1.Jan'!$A$10:$I$12,12,FALSE),"") | Q28: 10602
A29: Projekti / Project | Q29: 10623
A30: =IFERROR(VLOOKUP(O2,'1.Jan'!$A$10:$I$12,9,FALSE),"") | Q30: 10625
A31: Pershkrimi / Description | Q31: 10487
A32: =IFERROR(IF(VLOOKUP(O2,January[],14,FALSE)<>0,VLOOKUP(O2,January[],14,FALSE),IF(VLOOKUP(O2,January[],15,FALSE)<>0,VLOOKUP(O2,January[],15,FALSE))),"") | F32: Approx. Amount | Q32: 10490
A33: Shuma / Amount
A35: Pagesë me Kesh / Cash Payment
F36: Transferuar në llogarinë / Transferred to account - CREDIT
A38: Emri i Pranuesit te Cash / Name of Cash receiver: | F38: Emri i Perfituesit / Benne. Namer:
A40: Projekti / Project
A42: Shuma / Amount | F42: Shuma / Amount
A44: Tërheqje nga Banka / Cash Withdrawal
A45: Transferuar nga Llogaria / Transferred from Account - DEBIT | F45: Transferuar në Arkë / Transferred to CashBox - CREDIT
...
